BEGIN:VCALENDAR
VERSION:2.0
PRODID:-//jEvents 2.0 for Joomla//EN
CALSCALE:GREGORIAN
METHOD:PUBLISH
BEGIN:VTIMEZONE
TZID:Europe/Vienna
END:VTIMEZONE
BEGIN:VEVENT
UID:552518d8681a6033b58fe101c5f819a5
CATEGORIES:Veranstaltungen
CREATED:20231205T082851
SUMMARY:Glühweinstand der FF Strem beim FWH
DESCRIPTION:
DTSTAMP:20260420T051529
DTSTART;TZID=Europe/Vienna:20241207T150000
SEQUENCE:0
TRANSP:OPAQUE
END:VEVENT
END:VCALENDAR