BEGIN:VCALENDAR
VERSION:2.0
PRODID:-//jEvents 2.0 for Joomla//EN
CALSCALE:GREGORIAN
METHOD:PUBLISH
BEGIN:VTIMEZONE
TZID:Europe/Vienna
END:VTIMEZONE
BEGIN:VEVENT
UID:c10c5079adcaf14d25d9d0cf292a6097
CATEGORIES:Sonstiges
CREATED:20240313T154007
SUMMARY:Wissenstest Jugendfeuerwehr
LOCATION:St. Michael
DESCRIPTION:Am 23.03.2024 können unsere Mitglieder der Jugendfeuerwehr wieder ihr Könne
 n beim Wissenstest in St. Michael beweisen. In den letzten Wochen hat sich 
 unser Nachwuchs ausgiebig auf dieses Event vorbereitet und wir wünschen ihn
 en gutes Gelingen und viel Glück.\n
X-ALT-DESC;FMTTYPE=text/html:<p><span style="font-size: 12pt;">Am 23.03.2024 können unsere Mitglieder de
 r Jugendfeuerwehr wieder ihr Können beim Wissenstest in St. Michael beweise
 n. In den letzten Wochen hat sich unser Nachwuchs ausgiebig auf dieses Even
 t vorbereitet und wir wünschen ihnen gutes Gelingen und viel Glück.</span><
 /p>
DTSTAMP:20260422T115911
DTSTART;TZID=Europe/Vienna;VALUE=DATE:20240323
DTEND;TZID=Europe/Vienna;VALUE=DATE:20240324
SEQUENCE:0
TRANSP:OPAQUE
END:VEVENT
END:VCALENDAR